View In:
ArcGIS JavaScript
ArcGIS Online Map Viewer
ArcGIS Earth
ArcGIS Pro
Service Description: Maryland aboveground biomass map [30m] generated using Random Forests regression models. For more information visit https://daac.ornl.gov/CMS/guides/CMS_Maryland_AGB_Canopy.html.
High Resolution Carbon Monitoring and Modeling: A NASA CMS Phase II Study
Last Updated: 2011
Map Name: Biota_MD_Biomass
Legend
All Layers and Tables
Layers:
Description: Maryland aboveground biomass map [30m] generated using Random Forests regression models. For more information visit https://daac.ornl.gov/CMS/guides/CMS_Maryland_AGB_Canopy.html.
High Resolution Carbon Monitoring and Modeling: A NASA CMS Phase II Study
Last Updated: 2011
Copyright Text: MD iMAP, UMD
Spatial Reference:
102100
(3857)
Single Fused Map Cache: true
Tile Info:
- Height: 256
- Width: 256
- DPI: 96
-
Levels of Detail: 20
-
Level ID: 0
[ Start Tile, End Tile ]
- Resolution: 156543.03392800014
- Scale: 5.91657527591555E8
-
Level ID: 1
[ Start Tile, End Tile ]
- Resolution: 78271.51696399994
- Scale: 2.95828763795777E8
-
Level ID: 2
[ Start Tile, End Tile ]
- Resolution: 39135.75848200009
- Scale: 1.47914381897889E8
-
Level ID: 3
[ Start Tile, End Tile ]
- Resolution: 19567.87924099992
- Scale: 7.3957190948944E7
-
Level ID: 4
[ Start Tile, End Tile ]
- Resolution: 9783.93962049996
- Scale: 3.6978595474472E7
-
Level ID: 5
[ Start Tile, End Tile ]
- Resolution: 4891.96981024998
- Scale: 1.8489297737236E7
- Format: MIXED
- Compression Quality: 75.0
- Origin: X: -2.0037508342787E7
Y: 2.0037508342787E7
- Spatial Reference: 102100
(3857)
Storage Info:
- Storage Format: esriMapCacheStorageModeCompactV2
- Packet Size: 128
Initial Extent:
XMin: -8877048.631992813
YMin: 4476791.107896133
XMax: -8329479.631992812
YMax: 4916972.7894495325
Spatial Reference: 102100
(3857)
Full Extent:
XMin: -8852159.132
YMin: 4555746.948672834
XMax: -8354369.131992811
YMax: 4838016.948700003
Spatial Reference: 102100
(3857)
Units: esriMeters
Supported Image Format Types: PNG32,PNG24,PNG,JPG,DIB,TIFF,EMF,PS,PDF,GIF,SVG,SVGZ,BMP
Document Info:
Title: Maryland Biomass
Author:
Comments: Maryland aboveground biomass map [30m] generated using Random Forests regression models. For more information visit https://daac.ornl.gov/CMS/guides/CMS_Maryland_AGB_Canopy.html.
High Resolution Carbon Monitoring and Modeling: A NASA CMS Phase II Study
Last Updated: 2011
Subject: Statewide (30m) Biomass Data
Category:
Keywords: biomass,lidar,maryland,MD iMAP,UMD,raster,MD,cached,WMS
AntialiasingMode: Fast
TextAntialiasingMode: Force
Supports Dynamic Layers: false
MaxRecordCount: 2000
MaxImageHeight: 4096
MaxImageWidth: 4096
Supported Query Formats: JSON, geoJSON, PBF
Supports Query Data Elements: true
Min Scale: 5.91657527591555E8
Max Scale: 1128.497176
Supports Datum Transformation: true
Child Resources:
Info
Supported Operations:
Export Map
Identify
QueryLegends
QueryDomains
Find
Return Updates