{
 "currentVersion": 11.3,
 "cimVersion": "3.3.0",
 "serviceDescription": "",
 "mapName": "SixInchImagery2010_2011",
 "description": "",
 "copyrightText": "",
 "supportsDynamicLayers": false,
 "layers": [
  {
   "id": 0,
   "name": "SixInchImagery2010_2011",
   "parentLayerId": -1,
   "defaultVisibility": true,
   "subLayerIds": null,
   "minScale": 0,
   "maxScale": 0,
   "type": "Feature Layer",
   "geometryType": "esriGeometryPolygon",
   "supportsDynamicLegends": true
  }
 ],
 "tables": [],
 "spatialReference": {
  "wkid": 26985,
  "latestWkid": 26985,
  "xyTolerance": 0.001,
  "zTolerance": 0.001,
  "mTolerance": 0.001,
  "falseX": -36747100,
  "falseY": -29091500,
  "xyUnits": 10000,
  "falseZ": -100000,
  "zUnits": 10000,
  "falseM": -100000,
  "mUnits": 10000
 },
 "singleFusedMapCache": true,
 "tileInfo": {
  "rows": 512,
  "cols": 512,
  "dpi": 96,
  "format": "JPEG",
  "compressionQuality": 90,
  "origin": {
   "x": -36747100,
   "y": 45202700
  },
  "spatialReference": {
   "wkid": 26985,
   "latestWkid": 26985,
   "xyTolerance": 0.001,
   "zTolerance": 0.001,
   "mTolerance": 0.001,
   "falseX": -36747100,
   "falseY": -29091500,
   "xyUnits": 10000,
   "falseZ": -100000,
   "zUnits": 10000,
   "falseM": -100000,
   "mUnits": 10000
  },
  "lods": [
   {
    "level": 0,
    "resolution": 610.8116874192093,
    "scale": 2308574.98883465
   },
   {
    "level": 1,
    "resolution": 305.40584370960335,
    "scale": 1154287.49441732
   },
   {
    "level": 2,
    "resolution": 152.7029218548022,
    "scale": 577143.747208662
   },
   {
    "level": 3,
    "resolution": 76.3514609274011,
    "scale": 288571.873604331
   },
   {
    "level": 4,
    "resolution": 38.17573046370042,
    "scale": 144285.936802165
   },
   {
    "level": 5,
    "resolution": 19.087865231850262,
    "scale": 72142.9684010827
   },
   {
    "level": 6,
    "resolution": 9.543932615925145,
    "scale": 36071.4842005414
   },
   {
    "level": 7,
    "resolution": 4.771966307962573,
    "scale": 18035.7421002707
   },
   {
    "level": 8,
    "resolution": 2.3859831539812832,
    "scale": 9017.87105013534
   },
   {
    "level": 9,
    "resolution": 1.1929915769906416,
    "scale": 4508.93552506767
   },
   {
    "level": 10,
    "resolution": 0.5964957884863686,
    "scale": 2254.4677625
   },
   {
    "level": 11,
    "resolution": 0.2982478942431843,
    "scale": 1127.23388125
   }
  ]
 },
 "storageInfo": {
  "storageFormat": "esriMapCacheStorageModeCompactV2",
  "packetSize": 128
 },
 "initialExtent": {
  "xmin": 9740.774197327904,
  "ymin": -4618.200274127885,
  "xmax": 743467.3047144082,
  "ymax": 259658.44420440623,
  "spatialReference": {
   "wkid": 26985,
   "latestWkid": 26985,
   "xyTolerance": 0.001,
   "zTolerance": 0.001,
   "mTolerance": 0.001,
   "falseX": -36747100,
   "falseY": -29091500,
   "xyUnits": 10000,
   "falseZ": -100000,
   "zUnits": 10000,
   "falseM": -100000,
   "mUnits": 10000
  }
 },
 "fullExtent": {
  "xmin": 177781.82367801253,
  "ymin": 21816.316083298065,
  "xmax": 575192.6062960222,
  "ymax": 235121.6177013684,
  "spatialReference": {
   "wkid": 26985,
   "latestWkid": 26985,
   "xyTolerance": 0.001,
   "zTolerance": 0.001,
   "mTolerance": 0.001,
   "falseX": -36747100,
   "falseY": -29091500,
   "xyUnits": 10000,
   "falseZ": -100000,
   "zUnits": 10000,
   "falseM": -100000,
   "mUnits": 10000
  }
 },
 "datesInUnknownTimezone": false,
 "minScale": 2308574.98883465,
 "maxScale": 1127.23388125,
 "units": "esriMeters",
 "supportedImageFormatTypes": "PNG32,PNG24,PNG,JPG,DIB,TIFF,EMF,PS,PDF,GIF,SVG,SVGZ,BMP",
 "documentInfo": {
  "Title": "Map",
  "Author": "",
  "Comments": "",
  "Subject": "",
  "Category": "",
  "Version": "3.3.0",
  "AntialiasingMode": "Fast",
  "TextAntialiasingMode": "Force",
  "Keywords": ""
 },
 "supportsQueryDomains": true,
 "capabilities": "Map",
 "supportedQueryFormats": "JSON, geoJSON, PBF",
 "exportTilesAllowed": false,
 "referenceScale": 0.0,
 "datumTransformations": [
  {
   "geoTransforms": [
    {
     "wkid": 108190,
     "latestWkid": 108190,
     "transformForward": true,
     "name": "WGS_1984_(ITRF00)_To_NAD_1983"
    }
   ]
  },
  {
   "geoTransforms": [
    {
     "wkid": 108190,
     "latestWkid": 108190,
     "transformForward": false,
     "name": "WGS_1984_(ITRF00)_To_NAD_1983"
    }
   ]
  }
 ],
 "supportsDatumTransformation": true,
 "archivingInfo": {
  "supportsHistoricMoment": false
 },
 "supportsClipping": true,
 "supportsSpatialFilter": true,
 "supportsTimeRelation": true,
 "supportsQueryDataElements": true,
 "mapUnits": {
  "uwkid": 9001
 },
 "maxRecordCount": 2000,
 "maxImageHeight": 4096,
 "maxImageWidth": 4096,
 "supportedExtensions": "WMSServer",
 "resampling": false
}
