{ "currentVersion": 11.3, "cimVersion": "3.3.0", "serviceDescription": "
The map was developed using available parcel polygons attributed with tax assessment data as of project initiation in early 2020, Computer-Assisted Mass Appraisal (CAMA) data dated February 2020, and the Chesapeake Bay Program\u2019s 2017/18 Land Use Land Cover data (2022 edition), subsequently referred to as \u201cCBP LULC.\u201d The map also incorporates land use datasets provided by county and municipal jurisdictions to the extent possible while maintaining standard statewide classification definitions and rules. The product was developed to be consistent with the 2018 National Agriculture Imagery Program (NAIP) imagery and CBP LULC dataset. MDP\u2019s draft updated land use classification scheme is available as a separate document. This product is a beta release for public use and further testing. Methods for developing subsequent releases beyond this 2018 baseline will be refined based on feedback from the user community. Urban Land Uses 11 Low-density residential - Detached single-family/duplex dwelling units, yards, and associated areas. Includes generalized areas with lot sizes of less than five acres but at least one-half acre (0.2 to 2 dwelling units/acre). 12 Medium-density residential - Detached single-family/duplex, attached single-unit row housing, yards, and associated areas Includes generalized areas with lot sizes of less than one-half acre but at least one-eighth acre (2 to 8 dwelling units/acre). 13 High-density residential - Attached single-unit row housing, garden apartments, high-rise apartments/condominiums, mobile home and trailer parks, yards, and associated areas. Includes generalized areas with more than eight dwelling units per acre. This may include subsidized housing. 14 Commercial - Retail and wholesale services. Areas used primarily for the sale of products and services, including associated yards and parking areas. This category may include airports, welcome houses, telecommunication towers, and boat marinas. 15 Industrial - Manufacturing and industrial parks, including associated warehouses, storage yards, research laboratories, and parking areas. Warehouses that are returned by a commercial query should be categorized as industrial. This also includes power plants. 16 Institutional - Elementary and secondary schools, middle schools, junior and senior high schools, public and private colleges and universities, military installations (built-up areas only, including buildings and storage, training, and similar areas), churches, medical and health facilities, correctional facilities, government offices and facilities that are clearly separable from any surrounding natural or agricultural land cover, and other non-profit uses. 17 Extractive - Surface mining operations, including sand and gravel pits, quarries, coal surface mines, and deep coal mines. Status of activity (active vs. abandoned) is not distinguished. 18 Open urban land - Includes parks, open spaces, recreational areas not classified as institutional, golf courses, and cemeteries. Includes only built-up and turf-dominated areas that are clearly separable from any surrounding natural or agricultural land cover. 190 \u2013 Very Low Density Residential \u2013 Clustered residential parcels that have lot sizes less than 20 acres but at least five acres (0.2 to 0.05 dwelling units/acre) 50 \u2013 Water 80 Transportation - Transportation features include impervious roads, roadway rights-of-way, and parcels primarily containing light rail or metro stations and park-and-ride lots. 99 \u2013 Other Land - Remaining land not covered under another category. Examples include but are not limited to unbuilt lots, rural land, single-family residential parcels greater than or equal to 20 acres in size, and undeveloped portions of large parcels containing urban uses. May include undeveloped land that is either developable or constrained from further development. <\/span><\/p> <\/p> <\/p> Note: Urban Land Use classifications encompass the entire parcel on parcels less than five acres that contain a structure as of 2018 based on the Maryland Department of Planning and Maryland State Department of Assessment and Taxation\u2019s Computer-Assisted Mass Appraisal (CAMA) Building dataset. Elsewhere, the Chesapeake Bay Program\u2019s 2017/18 Land Use Land Cover dataset (2022 edition) is used to delineate the extent of development on a parcel. For more information, see Methodology Documentation.<\/span><\/p> Use Limitations:<\/span><\/p> The Spatial Data, and the information therein, (collectively the \"Data\") is provided \"as is\" without warranty of any kind, either expressed, implied, or statutory. The user assumes the entire risk as to quality and performance of the Data. No guarantee of accuracy is granted, nor is any responsibility for reliance thereon assumed. In no event shall the State of Maryland be liable for direct, indirect, incidental, consequential or special damages of any kind. The State of Maryland does not accept liability for any damages or misrepresentation caused by inaccuracies in the Data or as a result to changes to the Data, nor is there responsibility assumed to maintain the Data in any manner or form. The Data can be freely distributed as long as the metadata entry is not modified or deleted. Any data derived from the Data must acknowledge the State of Maryland in the metadata.<\/span><\/p> <\/p> This copy has been projected to \"WGS 1984 Web Mercator (auxiliary sphere)\" and, therefore, is for illustrative purposes only. To use the data for geospatial analysis or area calculations, please download the copy projected to \"NAD_1983 StatePlane Maryland FIPS 1900\" from MDP's website at https://planning.maryland.gov/pages/ourproducts/downloadfiles.aspx.<\/span><\/p> MDP\u2019s land use map estimates and generalizes the distribution of developed land statewide for general planning purposes and should not be used to identify land uses on individual parcels. Given methodology changes, the baseline 2018 map is not comparable with MDP\u2019s previous Land Use Land Cover products and should not be used to assess change over time. Land not classified as urban does not equate to developable land. <\/span><\/p> Classifications for solar arrays vary throughout the map, as the beta release did not focus on incorporating solar arrays independently from other land uses. MDP identified extractive areas using the CBP LULC dataset and carried over historical extractive areas not qualifying for another land use from the 2010 Land Use Land Cover map. Classifications within mixed-use areas vary depending on local data, the 2010 Land Use Land Cover classification, and how these parcels are attributed for tax assessment purposes.<\/span><\/p> <\/p> The Maryland Department of Planning or the State of Maryland has no liability from any damages or interpretations caused by this resource. The Maryland Department of Planning cannot guarantee the accuracy of the information contained in this resource. Each user is responsible for determining its suitability for his or her intended use or purpose.<\/span><\/p> <\/p><\/div><\/div><\/div><\/p><\/p>",
"mapName": "MD_LandUse",
"description": "The map was developed using available parcel polygons attributed with tax assessment data as of project initiation in early 2020, Computer-Assisted Mass Appraisal (CAMA) data dated February 2020, and the Chesapeake Bay Program\u2019s 2017/18 Land Use Land Cover data (2022 edition), subsequently referred to as \u201cCBP LULC.\u201d The map also incorporates land use datasets provided by county and municipal jurisdictions to the extent possible while maintaining standard statewide classification definitions and rules. The product was developed to be consistent with the 2018 National Agriculture Imagery Program (NAIP) imagery and CBP LULC dataset. MDP\u2019s draft updated land use classification scheme is available as a separate document. This product is a beta release for public use and further testing. Methods for developing subsequent releases beyond this 2018 baseline will be refined based on feedback from the user community. Urban Land Uses 11 Low-density residential - Detached single-family/duplex dwelling units, yards, and associated areas. Includes generalized areas with lot sizes of less than five acres but at least one-half acre (0.2 to 2 dwelling units/acre). 12 Medium-density residential - Detached single-family/duplex, attached single-unit row housing, yards, and associated areas Includes generalized areas with lot sizes of less than one-half acre but at least one-eighth acre (2 to 8 dwelling units/acre). 13 High-density residential - Attached single-unit row housing, garden apartments, high-rise apartments/condominiums, mobile home and trailer parks, yards, and associated areas. Includes generalized areas with more than eight dwelling units per acre. This may include subsidized housing. 14 Commercial - Retail and wholesale services. Areas used primarily for the sale of products and services, including associated yards and parking areas. This category may include airports, welcome houses, telecommunication towers, and boat marinas. 15 Industrial - Manufacturing and industrial parks, including associated warehouses, storage yards, research laboratories, and parking areas. Warehouses that are returned by a commercial query should be categorized as industrial. This also includes power plants. 16 Institutional - Elementary and secondary schools, middle schools, junior and senior high schools, public and private colleges and universities, military installations (built-up areas only, including buildings and storage, training, and similar areas), churches, medical and health facilities, correctional facilities, government offices and facilities that are clearly separable from any surrounding natural or agricultural land cover, and other non-profit uses. 17 Extractive - Surface mining operations, including sand and gravel pits, quarries, coal surface mines, and deep coal mines. Status of activity (active vs. abandoned) is not distinguished. 18 Open urban land - Includes parks, open spaces, recreational areas not classified as institutional, golf courses, and cemeteries. Includes only built-up and turf-dominated areas that are clearly separable from any surrounding natural or agricultural land cover. 190 \u2013 Very Low Density Residential \u2013 Clustered residential parcels that have lot sizes less than 20 acres but at least five acres (0.2 to 0.05 dwelling units/acre) 50 \u2013 Water 80 Transportation - Transportation features include impervious roads, roadway rights-of-way, and parcels primarily containing light rail or metro stations and park-and-ride lots. 99 \u2013 Other Land - Remaining land not covered under another category. Examples include but are not limited to unbuilt lots, rural land, single-family residential parcels greater than or equal to 20 acres in size, and undeveloped portions of large parcels containing urban uses. May include undeveloped land that is either developable or constrained from further development. Note: Urban Land Use classifications encompass the entire parcel on parcels less than five acres that contain a structure as of 2018 based on the Maryland Department of Planning and Maryland State Department of Assessment and Taxation\u2019s Computer-Assisted Mass Appraisal (CAMA) Building dataset. Elsewhere, the Chesapeake Bay Program\u2019s 2017/18 Land Use Land Cover dataset (2022 edition) is used to delineate the extent of development on a parcel. For more information, see Methodology Documentation.Use Limitations:The Spatial Data, and the information therein, (collectively the \"Data\") is provided \"as is\" without warranty of any kind, either expressed, implied, or statutory. The user assumes the entire risk as to quality and performance of the Data. No guarantee of accuracy is granted, nor is any responsibility for reliance thereon assumed. In no event shall the State of Maryland be liable for direct, indirect, incidental, consequential or special damages of any kind. The State of Maryland does not accept liability for any damages or misrepresentation caused by inaccuracies in the Data or as a result to changes to the Data, nor is there responsibility assumed to maintain the Data in any manner or form. The Data can be freely distributed as long as the metadata entry is not modified or deleted. Any data derived from the Data must acknowledge the State of Maryland in the metadata.This copy has been projected to \"WGS 1984 Web Mercator (auxiliary sphere)\" and, therefore, is for illustrative purposes only. To use the data for geospatial analysis or area calculations, please download the copy projected to \"NAD_1983 StatePlane Maryland FIPS 1900\" from MDP's website at https://planning.maryland.gov/pages/ourproducts/downloadfiles.aspx.MDP\u2019s land use map estimates and generalizes the distribution of developed land statewide for general planning purposes and should not be used to identify land uses on individual parcels. Given methodology changes, the baseline 2018 map is not comparable with MDP\u2019s previous Land Use Land Cover products and should not be used to assess change over time. Land not classified as urban does not equate to developable land. Classifications for solar arrays vary throughout the map, as the beta release did not focus on incorporating solar arrays independently from other land uses. MDP identified extractive areas using the CBP LULC dataset and carried over historical extractive areas not qualifying for another land use from the 2010 Land Use Land Cover map. Classifications within mixed-use areas vary depending on local data, the 2010 Land Use Land Cover classification, and how these parcels are attributed for tax assessment purposes.The Maryland Department of Planning or the State of Maryland has no liability from any damages or interpretations caused by this resource. The Maryland Department of Planning cannot guarantee the accuracy of the information contained in this resource. Each user is responsible for determining its suitability for his or her intended use or purpose.",
"copyrightText": "Maryland Department of Planning, Geospatial and Data Analysis",
"supportsDynamicLayers": true,
"layers": [
{
"id": 0,
"name": "MD_LandUseLabels",
"parentLayerId": -1,
"defaultVisibility": true,
"subLayerIds": null,
"minScale": 0,
"maxScale": 0,
"type": "Feature Layer",
"geometryType": "esriGeometryPolygon",
"supportsDynamicLegends": true
},
{
"id": 1,
"name": "MD_LandUse",
"parentLayerId": -1,
"defaultVisibility": true,
"subLayerIds": null,
"minScale": 0,
"maxScale": 0,
"type": "Raster Layer",
"supportsDynamicLegends": true
}
],
"tables": [],
"spatialReference": {
"wkid": 102100,
"latestWkid": 3857,
"xyTolerance": 0.001,
"zTolerance": 0.001,
"mTolerance": 0.001,
"falseX": -20037700,
"falseY": -30241100,
"xyUnits": 10000,
"falseZ": -100000,
"zUnits": 10000,
"falseM": -100000,
"mUnits": 10000
},
"singleFusedMapCache": true,
"tileInfo": {
"rows": 512,
"cols": 512,
"dpi": 96,
"format": "MIXED",
"compressionQuality": 90,
"origin": {
"x": -20037700,
"y": 30241100
},
"spatialReference": {
"wkid": 102100,
"latestWkid": 3857,
"xyTolerance": 0.001,
"zTolerance": 0.001,
"mTolerance": 0.001,
"falseX": -20037700,
"falseY": -30241100,
"xyUnits": 10000,
"falseZ": -100000,
"zUnits": 10000,
"falseM": -100000,
"mUnits": 10000
},
"lods": [
{
"level": 0,
"resolution": 2445.9849051255187,
"scale": 9244648.86862
},
{
"level": 1,
"resolution": 1222.9924525627594,
"scale": 4622324.43431
},
{
"level": 2,
"resolution": 611.4962262813797,
"scale": 2311162.217155
},
{
"level": 3,
"resolution": 305.74811314055756,
"scale": 1155581.108577
},
{
"level": 4,
"resolution": 152.87405657041106,
"scale": 577790.554289
},
{
"level": 5,
"resolution": 76.43702828507324,
"scale": 288895.277144
},
{
"level": 6,
"resolution": 38.21851414253662,
"scale": 144447.638572
},
{
"level": 7,
"resolution": 19.10925707126831,
"scale": 72223.819286
},
{
"level": 8,
"resolution": 9.554628535634155,
"scale": 36111.909643
},
{
"level": 9,
"resolution": 4.77731426794937,
"scale": 18055.954822
},
{
"level": 10,
"resolution": 2.388643992120693,
"scale": 9027.9277411
},
{
"level": 11,
"resolution": 1.1943285668550503,
"scale": 4513.988705
},
{
"level": 12,
"resolution": 0.5971642835598172,
"scale": 2256.994353
},
{
"level": 13,
"resolution": 0.29858214164761665,
"scale": 1128.497176
},
{
"level": 14,
"resolution": 0.14929107082380833,
"scale": 564.248588
}
]
},
"storageInfo": {
"storageFormat": "esriMapCacheStorageModeCompactV2",
"packetSize": 128
},
"initialExtent": {
"xmin": -8875819.418202361,
"ymin": 4454390.391963867,
"xmax": -8318009.418202361,
"ymax": 4934981.776281388,
"spatialReference": {
"wkid": 102100,
"latestWkid": 3857,
"xyTolerance": 0.001,
"zTolerance": 0.001,
"mTolerance": 0.001,
"falseX": -20037700,
"falseY": -30241100,
"xyUnits": 10000,
"falseZ": -100000,
"zUnits": 10000,
"falseM": -100000,
"mUnits": 10000
}
},
"fullExtent": {
"xmin": -8850464.418202361,
"ymin": 4560123.584122627,
"xmax": -8343364.418202361,
"ymax": 4829248.584122627,
"spatialReference": {
"wkid": 102100,
"latestWkid": 3857,
"xyTolerance": 0.001,
"zTolerance": 0.001,
"mTolerance": 0.001,
"falseX": -20037700,
"falseY": -30241100,
"xyUnits": 10000,
"falseZ": -100000,
"zUnits": 10000,
"falseM": -100000,
"mUnits": 10000
}
},
"datesInUnknownTimezone": false,
"minScale": 9244648.86862,
"maxScale": 564.248588,
"units": "esriMeters",
"supportedImageFormatTypes": "PNG32,PNG24,PNG,JPG,DIB,TIFF,EMF,PS,PDF,GIF,SVG,SVGZ,BMP",
"documentInfo": {
"Title": "Land Use Map 2018",
"Author": "",
